BEGIN:VCALENDAR
VERSION:2.0
PRODID:-//Tackhütte.de - ECPv6.15.13//NONSGML v1.0//EN
CALSCALE:GREGORIAN
METHOD:PUBLISH
X-WR-CALNAME:Tackhütte.de
X-ORIGINAL-URL:https://xn--tackhtte-b6a.de
X-WR-CALDESC:Veranstaltungen für Tackhütte.de
REFRESH-INTERVAL;VALUE=DURATION:PT1H
X-Robots-Tag:noindex
X-PUBLISHED-TTL:PT1H
BEGIN:VTIMEZONE
TZID:Europe/Paris
BEGIN:DAYLIGHT
TZOFFSETFROM:+0100
TZOFFSETTO:+0200
TZNAME:CEST
DTSTART:20250330T010000
END:DAYLIGHT
BEGIN:STANDARD
TZOFFSETFROM:+0200
TZOFFSETTO:+0100
TZNAME:CET
DTSTART:20251026T010000
END:STANDARD
BEGIN:DAYLIGHT
TZOFFSETFROM:+0100
TZOFFSETTO:+0200
TZNAME:CEST
DTSTART:20260329T010000
END:DAYLIGHT
BEGIN:STANDARD
TZOFFSETFROM:+0200
TZOFFSETTO:+0100
TZNAME:CET
DTSTART:20261025T010000
END:STANDARD
BEGIN:DAYLIGHT
TZOFFSETFROM:+0100
TZOFFSETTO:+0200
TZNAME:CEST
DTSTART:20270328T010000
END:DAYLIGHT
BEGIN:STANDARD
TZOFFSETFROM:+0200
TZOFFSETTO:+0100
TZNAME:CET
DTSTART:20271031T010000
END:STANDARD
END:VTIMEZONE
BEGIN:VTIMEZONE
TZID:UTC
BEGIN:STANDARD
TZOFFSETFROM:+0000
TZOFFSETTO:+0000
TZNAME:UTC
DTSTART:20250101T000000
END:STANDARD
END:VTIMEZONE
BEGIN:VEVENT
DTSTART;TZID=Europe/Paris:20260424T200000
DTEND;TZID=Europe/Paris:20260424T220000
DTSTAMP:20260421T210515
CREATED:20251215T083815Z
LAST-MODIFIED:20251221T113505Z
UID:14833-1777060800-1777068000@xn--tackhtte-b6a.de
SUMMARY:Vereins-Offiziersversammlung
DESCRIPTION:
URL:https://xn--tackhtte-b6a.de/event/offiziersversammlung/
LOCATION:Pizzeria Rustica\, Meerkamp 111\, Mönchengladbach\, Nordrhein-Westfalen\, 41238\, Germany
END:VEVENT
BEGIN:VEVENT
DTSTART;TZID=Europe/Paris:20260425T140000
DTEND;TZID=Europe/Paris:20260425T180000
DTSTAMP:20260421T210515
CREATED:20251215T083916Z
LAST-MODIFIED:20260328T134331Z
UID:14835-1777125600-1777140000@xn--tackhtte-b6a.de
SUMMARY:Fest am Dicken Turm
DESCRIPTION:
URL:https://xn--tackhtte-b6a.de/event/fest-am-dicken-turm/
LOCATION:Dicker Turm\, Waldhausenerstraße 62\, Mönchengladbach\, 41061\, Germany
ATTACH;FMTTYPE=image/avif:https://xn--tackhtte-b6a.de/wp-content/uploads/2025/12/Fest_am_dicken_tTurm_2026.avif
END:VEVENT
BEGIN:VEVENT
DTSTART;VALUE=DATE:20260502
DTEND;VALUE=DATE:20260506
DTSTAMP:20260421T210515
CREATED:20251215T135248Z
LAST-MODIFIED:20260408T191536Z
UID:14837-1777680000-1778025599@xn--tackhtte-b6a.de
SUMMARY:Schützen- und Heimatfest in Giesenkirchen
DESCRIPTION:Das Schützenfest in Giesenkirchen steht wieder vor der Tür: Vom 02. bis 05. Mai 2026 feiert die befreundete St. Sebastianus Schützenbruderschaft Giesenkirchen 1421 e.V. ihr traditionelles Schützen- und Heimatfest in Giesenkirchen (Mönchengladbach). Auch für uns Schützen der Tackhütte ist dieses Fest jedes Jahr ein fester Termin im Kalender – besonders am Sonntag\, wenn wir gemeinsam am großen Festumzug teilnehmen. \n  \nBesonders gratulieren möchten wir an dieser Stelle dem Jägerzug Böhmerwald\, die ein stolzes Jubiläum feiern: 60 Jahre geballte Kameradschaft! Dass sie dabei auch regelmäßig bei uns in der Tackhütte mitmarschiert sind und gefeiert haben\, freut uns natürlich besonders. 60 Jahre echte Freundschaft und gelebtes Brauchtum sind in der heutigen Zeit keine Selbstverständlichkeit mehr. Wir ziehen den Hut vor dieser Ausdauer und freuen uns darauf\, dieses Jubiläum gemeinsam mit euch gebührend zu begießen. Auf die nächsten 60 Jahre\, Böhmerwald! \n  \nDas Schützenfest-Programm im Überblick\nDie Giesenkirchener haben sich auch dieses Jahr nicht lumpen lassen: \n\n\nSamstag (02.05.): Der Auftakt erfolgt mit dem Antreten am Festzelt und der Serenade am Caritaszentrum. Abends darf dann ordentlich gefeiert werden – die Live-Band „Zeltgeflüster“ sorgt im Zelt für die richtige Betriebstemperatur. \n\n\nSonntag (03.05.): Nach dem besinnlichen Teil (Totenehrung und Gottesdienst) geht es zum musikalischen Frühschoppen. Hier werden auch die Jubilare geehrt. Nachmittags folgt dann das\, worauf wir uns am meisten freuen: der große Festumzug mit der Parade am Konstantinplatz. Den Abschluss macht der Königsehrenabend. \n\n\nMontag (04.05.): In Giesenkirchen wird das Holzschuh-Brauchtum großgeschrieben – die Klompenparade und der anschließende Klompenball sind immer ein echtes Highlight. \n\n\nDienstag (05.05.): Zum Finale gibt es noch einmal eine Parade am Konstantinplatz und den stimmungsvollen Großen Zapfenstreich. \n\n\n  \nWichtig für uns Schützen der Tackhütte:\nMarkiert euch besonders den Sonntag (03.05.) fett im Kalender! Da sind wir als Gäste beim großen Umzug dabei und wollen natürlich ein ordentliches Bild abgeben. \n\nHinweis: Genaue Infos dazu\, wann und wo wir uns treffen\, schicken wir euch wie gewohnt zeitnah über unsere internen Kanäle (WhatsApp-Gruppen/Aushang) zu. \n\nWir freuen uns auf ein paar gesellige Stunden\, ein kühle Getränke und darauf\, gemeinsam mit den Giesenkirchenern die Tradition hochzuhalten. \nMan sieht sich im Zelt!
URL:https://xn--tackhtte-b6a.de/event/schuetzen-und-heimatfest-in-giesenkirchen/
LOCATION:Schützenplatz Giesenkirchen\, Fliederweg 1\, Mönchengladbach\, Nordrhein-Westfalen\, 41238\, Germany
ATTACH;FMTTYPE=image/webp:https://xn--tackhtte-b6a.de/wp-content/uploads/2025/12/Schuetzenfest-Giesenkirchen-2026-Plakat.webp
END:VEVENT
BEGIN:VEVENT
DTSTART;TZID=UTC:20260507T200000
DTEND;TZID=UTC:20260507T210000
DTSTAMP:20260421T210515
CREATED:20251105T180925Z
LAST-MODIFIED:20251105T180925Z
UID:14681-1778184000-1778187600@xn--tackhtte-b6a.de
SUMMARY:Monatsversammlung Mai
DESCRIPTION:
URL:https://xn--tackhtte-b6a.de/event/monatsversammlung-mai/
LOCATION:Pizzeria Rustica\, Meerkamp 111\, Mönchengladbach\, Nordrhein-Westfalen\, 41238\, Germany
ORGANIZER;CN="Sch%C3%BCtzenverein Tackh%C3%BCtte":MAILTO:info@xn--tackhtte-b6a.de
END:VEVENT
BEGIN:VEVENT
DTSTART;TZID=Europe/Paris:20260508T190000
DTEND;TZID=Europe/Paris:20260508T213000
DTSTAMP:20260421T210515
CREATED:20251215T135540Z
LAST-MODIFIED:20260227T125603Z
UID:14839-1778266800-1778275800@xn--tackhtte-b6a.de
SUMMARY:Königsehrenabend des Bezirksverbandes
DESCRIPTION:
URL:https://xn--tackhtte-b6a.de/event/koenigsehrenabend-des-bezirksverbandes/
LOCATION:GEM\, Am Nordpark 400\, Mönchengladbach\, 41068
END:VEVENT
BEGIN:VEVENT
DTSTART;TZID=Europe/Paris:20260516T140000
DTEND;TZID=Europe/Paris:20260516T140000
DTSTAMP:20260421T210515
CREATED:20260219T155659Z
LAST-MODIFIED:20260225T105940Z
UID:16326-1778940000-1778940000@xn--tackhtte-b6a.de
SUMMARY:Frühkirmes in Bettrath
DESCRIPTION:
URL:https://xn--tackhtte-b6a.de/event/fruehkirmes-in-bettrath/
END:VEVENT
BEGIN:VEVENT
DTSTART;TZID=Europe/Paris:20260602T200000
DTEND;TZID=Europe/Paris:20260602T220000
DTSTAMP:20260421T210515
CREATED:20260220T210943Z
LAST-MODIFIED:20260220T210956Z
UID:16393-1780430400-1780437600@xn--tackhtte-b6a.de
SUMMARY:Versammlung der Klompenfrauen
DESCRIPTION:
URL:https://xn--tackhtte-b6a.de/event/versammlung-der-klompenfrauen/
LOCATION:Ratskeller\, Giesenkirchen\, Konstantinstraße 223\, Mönchengladbach\, 41238\, Germany
CATEGORIES:Klompenfrauen
END:VEVENT
BEGIN:VEVENT
DTSTART;TZID=Europe/Paris:20260604T120000
DTEND;TZID=Europe/Paris:20260604T180000
DTSTAMP:20260421T210515
CREATED:20251215T135653Z
LAST-MODIFIED:20251215T135653Z
UID:14842-1780574400-1780596000@xn--tackhtte-b6a.de
SUMMARY:Gründungsfest
DESCRIPTION:
URL:https://xn--tackhtte-b6a.de/event/gruendungsfest/
LOCATION:Marienheim\, Meerkamp 98\, Mönchengladbach\, Nordrhein-Westfalen\, 41238\, Germany
ORGANIZER;CN="Sch%C3%BCtzenverein Tackh%C3%BCtte":MAILTO:info@xn--tackhtte-b6a.de
END:VEVENT
BEGIN:VEVENT
DTSTART;TZID=Europe/Paris:20260606T180000
DTEND;TZID=Europe/Paris:20260606T233000
DTSTAMP:20260421T210515
CREATED:20260220T211605Z
LAST-MODIFIED:20260220T211605Z
UID:16403-1780768800-1780788600@xn--tackhtte-b6a.de
SUMMARY:25 Jahre Jubiläum Kanoniere
DESCRIPTION:
URL:https://xn--tackhtte-b6a.de/event/25-jahre-jubilaeum-kanoniere/
LOCATION:Ratskeller\, Giesenkirchen\, Konstantinstraße 223\, Mönchengladbach\, 41238\, Germany
END:VEVENT
BEGIN:VEVENT
DTSTART;TZID=UTC:20260611T200000
DTEND;TZID=UTC:20260611T210000
DTSTAMP:20260421T210515
CREATED:20251105T180952Z
LAST-MODIFIED:20251105T181021Z
UID:14683-1781208000-1781211600@xn--tackhtte-b6a.de
SUMMARY:Monatsversammlung Juni
DESCRIPTION:
URL:https://xn--tackhtte-b6a.de/event/monatsversammlung-juni/
LOCATION:Pizzeria Rustica\, Meerkamp 111\, Mönchengladbach\, Nordrhein-Westfalen\, 41238\, Germany
ORGANIZER;CN="Sch%C3%BCtzenverein Tackh%C3%BCtte":MAILTO:info@xn--tackhtte-b6a.de
END:VEVENT
BEGIN:VEVENT
DTSTART;TZID=Europe/Paris:20260613T130000
DTEND;TZID=Europe/Paris:20260613T130000
DTSTAMP:20260421T210515
CREATED:20260220T211817Z
LAST-MODIFIED:20260220T211817Z
UID:16405-1781355600-1781355600@xn--tackhtte-b6a.de
SUMMARY:Schützenbiwak in Giesenkirchen
DESCRIPTION:
URL:https://xn--tackhtte-b6a.de/event/schuetzenbiwak-in-giesenkirchen/
LOCATION:Konstantinplatz\, Konstantinplatz\, Mönchengladbach\, 41238\, Germany
END:VEVENT
BEGIN:VEVENT
DTSTART;TZID=Europe/Paris:20260620T140000
DTEND;TZID=Europe/Paris:20260620T170000
DTSTAMP:20260421T210515
CREATED:20251215T135913Z
LAST-MODIFIED:20251215T135913Z
UID:14844-1781964000-1781974800@xn--tackhtte-b6a.de
SUMMARY:Schützenbiwak der St. Paulus Bruderschaft Mülfort
DESCRIPTION:
URL:https://xn--tackhtte-b6a.de/event/schuetzenbiwak-der-st-paulus-bruderschaft-muelfort/
LOCATION:Pfarrkirche St. Paul\, Mülfort\, Altenbroicher Str. 40\, Mönchengladbach\, 41238\, Germany
END:VEVENT
BEGIN:VEVENT
DTSTART;TZID=Europe/Paris:20260626T200000
DTEND;TZID=Europe/Paris:20260626T220000
DTSTAMP:20260421T210515
CREATED:20251216T105858Z
LAST-MODIFIED:20251216T105858Z
UID:14863-1782504000-1782511200@xn--tackhtte-b6a.de
SUMMARY:Sitzung des Offizierskorps
DESCRIPTION:
URL:https://xn--tackhtte-b6a.de/event/sitzung-des-offizierskorps-2/
LOCATION:Pizzeria Rustica\, Meerkamp 111\, Mönchengladbach\, Nordrhein-Westfalen\, 41238\, Germany
ORGANIZER;CN="Sch%C3%BCtzenverein Tackh%C3%BCtte":MAILTO:info@xn--tackhtte-b6a.de
END:VEVENT
BEGIN:VEVENT
DTSTART;TZID=UTC:20260702T200000
DTEND;TZID=UTC:20260702T210000
DTSTAMP:20260421T210515
CREATED:20251105T181048Z
LAST-MODIFIED:20251105T181048Z
UID:14686-1783022400-1783026000@xn--tackhtte-b6a.de
SUMMARY:Monatsversammlung Juli
DESCRIPTION:
URL:https://xn--tackhtte-b6a.de/event/monatsversammlung-juli/
LOCATION:Pizzeria Rustica\, Meerkamp 111\, Mönchengladbach\, Nordrhein-Westfalen\, 41238\, Germany
ORGANIZER;CN="Sch%C3%BCtzenverein Tackh%C3%BCtte":MAILTO:info@xn--tackhtte-b6a.de
END:VEVENT
BEGIN:VEVENT
DTSTART;TZID=Europe/Paris:20260707T200000
DTEND;TZID=Europe/Paris:20260707T220000
DTSTAMP:20260421T210515
CREATED:20260220T211116Z
LAST-MODIFIED:20260220T211116Z
UID:16395-1783454400-1783461600@xn--tackhtte-b6a.de
SUMMARY:Versammlung der Klompenfrauen Juli
DESCRIPTION:
URL:https://xn--tackhtte-b6a.de/event/versammlung-der-klompenfrauen-juli/
LOCATION:Ratskeller\, Giesenkirchen\, Konstantinstraße 223\, Mönchengladbach\, 41238\, Germany
CATEGORIES:Klompenfrauen
END:VEVENT
BEGIN:VEVENT
DTSTART;TZID=Europe/Paris:20260711T160000
DTEND;TZID=Europe/Paris:20260711T230000
DTSTAMP:20260421T210515
CREATED:20251215T140018Z
LAST-MODIFIED:20251215T140018Z
UID:14846-1783785600-1783810800@xn--tackhtte-b6a.de
SUMMARY:Honschaftsfest
DESCRIPTION:
URL:https://xn--tackhtte-b6a.de/event/honschaftsfest/
LOCATION:Marienheim\, Meerkamp 98\, Mönchengladbach\, Nordrhein-Westfalen\, 41238\, Germany
ORGANIZER;CN="Sch%C3%BCtzenverein Tackh%C3%BCtte":MAILTO:info@xn--tackhtte-b6a.de
END:VEVENT
BEGIN:VEVENT
DTSTART;TZID=Europe/Paris:20260717T200000
DTEND;TZID=Europe/Paris:20260717T220000
DTSTAMP:20260421T210515
CREATED:20251215T140143Z
LAST-MODIFIED:20260220T211901Z
UID:14848-1784318400-1784325600@xn--tackhtte-b6a.de
SUMMARY:Vereins-Offiziersversammlung
DESCRIPTION:
URL:https://xn--tackhtte-b6a.de/event/offiziersversammlung-2/
LOCATION:Pizzeria Rustica\, Meerkamp 111\, Mönchengladbach\, Nordrhein-Westfalen\, 41238\, Germany
ORGANIZER;CN="Sch%C3%BCtzenverein Tackh%C3%BCtte":MAILTO:info@xn--tackhtte-b6a.de
END:VEVENT
BEGIN:VEVENT
DTSTART;TZID=Europe/Paris:20260725T160000
DTEND;TZID=Europe/Paris:20260726T190000
DTSTAMP:20260421T210515
CREATED:20251215T141024Z
LAST-MODIFIED:20251215T141024Z
UID:14855-1784995200-1785092400@xn--tackhtte-b6a.de
SUMMARY:Schützenfest der St. Paulus Bruderschaft Mülfort
DESCRIPTION:
URL:https://xn--tackhtte-b6a.de/event/schuetzenfest-der-st-paulus-bruderschaft-muelfort/
LOCATION:Sportanlage auf der Bruchstraße\, Bruchstraße\, Mönchengladbach\, Nordrhein-Westfalen\, 41238\, Germany
END:VEVENT
BEGIN:VEVENT
DTSTART;TZID=Europe/Paris:20260802T150000
DTEND;TZID=Europe/Paris:20260802T150000
DTSTAMP:20260421T210515
CREATED:20260220T212031Z
LAST-MODIFIED:20260220T212031Z
UID:16408-1785682800-1785682800@xn--tackhtte-b6a.de
SUMMARY:Schützenfest der St. Josef Bruderschaft Schelsen
DESCRIPTION:
URL:https://xn--tackhtte-b6a.de/event/schuetzenfest-der-st-josef-bruderschaft-schelsen/
LOCATION:Festzelt Schelsen\, Festzelt Schelsen\, Festzelt Schelsen\, Nordrhein-Westfalen\, 41238\, Germany
END:VEVENT
BEGIN:VEVENT
DTSTART;TZID=Europe/Paris:20260804T200000
DTEND;TZID=Europe/Paris:20260804T220000
DTSTAMP:20260421T210515
CREATED:20260220T211207Z
LAST-MODIFIED:20260220T211207Z
UID:16397-1785873600-1785880800@xn--tackhtte-b6a.de
SUMMARY:Versammlung der Klompenfrauen August
DESCRIPTION:
URL:https://xn--tackhtte-b6a.de/event/versammlung-der-klompenfrauen-august/
LOCATION:Ratskeller\, Giesenkirchen\, Konstantinstraße 223\, Mönchengladbach\, 41238\, Germany
CATEGORIES:Klompenfrauen
END:VEVENT
BEGIN:VEVENT
DTSTART;TZID=UTC:20260806T200000
DTEND;TZID=UTC:20260806T210000
DTSTAMP:20260421T210515
CREATED:20251105T181117Z
LAST-MODIFIED:20251105T181117Z
UID:14688-1786046400-1786050000@xn--tackhtte-b6a.de
SUMMARY:Monatsversammlung August
DESCRIPTION:
URL:https://xn--tackhtte-b6a.de/event/monatsversammlung-august/
LOCATION:Pizzeria Rustica\, Meerkamp 111\, Mönchengladbach\, Nordrhein-Westfalen\, 41238\, Germany
ORGANIZER;CN="Sch%C3%BCtzenverein Tackh%C3%BCtte":MAILTO:info@xn--tackhtte-b6a.de
END:VEVENT
BEGIN:VEVENT
DTSTART;TZID=Europe/Paris:20260814T190000
DTEND;TZID=Europe/Paris:20260817T230000
DTSTAMP:20260421T210515
CREATED:20251215T140334Z
LAST-MODIFIED:20251215T140334Z
UID:14850-1786734000-1787007600@xn--tackhtte-b6a.de
SUMMARY:Schützenfest in der Tackhütte
DESCRIPTION:
URL:https://xn--tackhtte-b6a.de/event/schuetzenfest-in-der-tackhuette/
LOCATION:Zeltplatz Tackhütte\, Tackhütter Broich\, Tackhütter Broich 54\, Mönchengladbach\, Nordrhein-Westfalen\, 41238\, Germany
ORGANIZER;CN="Sch%C3%BCtzenverein Tackh%C3%BCtte":MAILTO:info@xn--tackhtte-b6a.de
END:VEVENT
BEGIN:VEVENT
DTSTART;TZID=Europe/Paris:20260901T200000
DTEND;TZID=Europe/Paris:20260901T220000
DTSTAMP:20260421T210515
CREATED:20260220T211254Z
LAST-MODIFIED:20260220T211254Z
UID:16399-1788292800-1788300000@xn--tackhtte-b6a.de
SUMMARY:Versammlung der Klompenfrauen September
DESCRIPTION:
URL:https://xn--tackhtte-b6a.de/event/versammlung-der-klompenfrauen-september/
LOCATION:Ratskeller\, Giesenkirchen\, Konstantinstraße 223\, Mönchengladbach\, 41238\, Germany
CATEGORIES:Klompenfrauen
END:VEVENT
BEGIN:VEVENT
DTSTART;TZID=UTC:20260903T200000
DTEND;TZID=UTC:20260903T210000
DTSTAMP:20260421T210515
CREATED:20251105T181153Z
LAST-MODIFIED:20251105T181153Z
UID:14690-1788465600-1788469200@xn--tackhtte-b6a.de
SUMMARY:Monatsversammlung September mit Manöverkritik
DESCRIPTION:
URL:https://xn--tackhtte-b6a.de/event/monatsversammlung-september-mit-manoeverkritik/
LOCATION:Pizzeria Rustica\, Meerkamp 111\, Mönchengladbach\, Nordrhein-Westfalen\, 41238\, Germany
ORGANIZER;CN="Sch%C3%BCtzenverein Tackh%C3%BCtte":MAILTO:info@xn--tackhtte-b6a.de
END:VEVENT
BEGIN:VEVENT
DTSTART;TZID=Europe/Paris:20260905T140000
DTEND;TZID=Europe/Paris:20260906T180000
DTSTAMP:20260421T210515
CREATED:20251215T140544Z
LAST-MODIFIED:20251215T140544Z
UID:14853-1788616800-1788717600@xn--tackhtte-b6a.de
SUMMARY:Stadtschützenfest
DESCRIPTION:
URL:https://xn--tackhtte-b6a.de/event/stadtschuetzenfest-2/
LOCATION:Innenstadt Mönchengladbach\, Hindenburgstraße\, Mönchengladbach\, Nordrhein-Westfalen\, 41238\, Germany
END:VEVENT
BEGIN:VEVENT
DTSTART;VALUE=DATE:20260906
DTEND;VALUE=DATE:20260907
DTSTAMP:20260421T210515
CREATED:20260220T212138Z
LAST-MODIFIED:20260220T212138Z
UID:16410-1788652800-1788739199@xn--tackhtte-b6a.de
SUMMARY:Herbstmarkt in Giesenkirchen
DESCRIPTION:
URL:https://xn--tackhtte-b6a.de/event/herbstmarkt-in-giesenkirchen/
LOCATION:Konstantinplatz\, Konstantinplatz\, Mönchengladbach\, 41238\, Germany
END:VEVENT
BEGIN:VEVENT
DTSTART;TZID=Europe/Paris:20260926T180000
DTEND;TZID=Europe/Paris:20260926T230000
DTSTAMP:20260421T210515
CREATED:20260220T212233Z
LAST-MODIFIED:20260220T212233Z
UID:16412-1790445600-1790463600@xn--tackhtte-b6a.de
SUMMARY:Krönungsball der St. Sebastianus Schützenbruderschaft Giesenkirchen
DESCRIPTION:
URL:https://xn--tackhtte-b6a.de/event/kroenungsball-der-st-sebastianus-schuetzenbruderschaft-giesenkirchen/
LOCATION:Pädagogisches Zentrum Giesenkirchen\, Am Sternenfeld 65\, Mönchengladbach\, Nordrhein-Westfalen\, 41238\, Germany
END:VEVENT
BEGIN:VEVENT
DTSTART;TZID=UTC:20261001T200000
DTEND;TZID=UTC:20261001T210000
DTSTAMP:20260421T210515
CREATED:20251105T181237Z
LAST-MODIFIED:20251105T181237Z
UID:14692-1790884800-1790888400@xn--tackhtte-b6a.de
SUMMARY:Monatsversammlung Oktober
DESCRIPTION:
URL:https://xn--tackhtte-b6a.de/event/monatsversammlung-oktober-2/
LOCATION:Pizzeria Rustica\, Meerkamp 111\, Mönchengladbach\, Nordrhein-Westfalen\, 41238\, Germany
ORGANIZER;CN="Sch%C3%BCtzenverein Tackh%C3%BCtte":MAILTO:info@xn--tackhtte-b6a.de
END:VEVENT
BEGIN:VEVENT
DTSTART;TZID=Europe/Paris:20261003T183000
DTEND;TZID=Europe/Paris:20261003T183000
DTSTAMP:20260421T210515
CREATED:20260220T212416Z
LAST-MODIFIED:20260220T212427Z
UID:16414-1791052200-1791052200@xn--tackhtte-b6a.de
SUMMARY:Krönungsball der St. Josef Schützenbruderschaft Schelsen
DESCRIPTION:
URL:https://xn--tackhtte-b6a.de/event/kroenungsball-der-st-josef-schuetzenbruderschaft-schelsen/
LOCATION:Festzelt Schelsen\, Festzelt Schelsen\, Festzelt Schelsen\, Nordrhein-Westfalen\, 41238\, Germany
END:VEVENT
BEGIN:VEVENT
DTSTART;TZID=Europe/Paris:20261024T180000
DTEND;TZID=Europe/Paris:20261024T180000
DTSTAMP:20260421T210515
CREATED:20260220T212515Z
LAST-MODIFIED:20260220T212515Z
UID:16416-1792864800-1792864800@xn--tackhtte-b6a.de
SUMMARY:Krönungsball Tackhütte
DESCRIPTION:
URL:https://xn--tackhtte-b6a.de/event/kroenungsball-tackhuette-2/
LOCATION:Marienheim\, Meerkamp 98\, Mönchengladbach\, Nordrhein-Westfalen\, 41238\, Germany
ORGANIZER;CN="Sch%C3%BCtzenverein Tackh%C3%BCtte":MAILTO:info@xn--tackhtte-b6a.de
END:VEVENT
END:VCALENDAR